BEGIN:VCALENDAR
VERSION:2.0
PRODID:-//Devon Women in Business - ECPv6.15.18//NONSGML v1.0//EN
CALSCALE:GREGORIAN
METHOD:PUBLISH
X-WR-CALNAME:Devon Women in Business
X-ORIGINAL-URL:https://devonwomeninbusiness.com
X-WR-CALDESC:Events for Devon Women in Business
REFRESH-INTERVAL;VALUE=DURATION:PT1H
X-Robots-Tag:noindex
X-PUBLISHED-TTL:PT1H
BEGIN:VTIMEZONE
TZID:Europe/London
BEGIN:DAYLIGHT
TZOFFSETFROM:+0000
TZOFFSETTO:+0100
TZNAME:BST
DTSTART:20250330T010000
END:DAYLIGHT
BEGIN:STANDARD
TZOFFSETFROM:+0100
TZOFFSETTO:+0000
TZNAME:GMT
DTSTART:20251026T010000
END:STANDARD
BEGIN:DAYLIGHT
TZOFFSETFROM:+0000
TZOFFSETTO:+0100
TZNAME:BST
DTSTART:20260329T010000
END:DAYLIGHT
BEGIN:STANDARD
TZOFFSETFROM:+0100
TZOFFSETTO:+0000
TZNAME:GMT
DTSTART:20261025T010000
END:STANDARD
BEGIN:DAYLIGHT
TZOFFSETFROM:+0000
TZOFFSETTO:+0100
TZNAME:BST
DTSTART:20270328T010000
END:DAYLIGHT
BEGIN:STANDARD
TZOFFSETFROM:+0100
TZOFFSETTO:+0000
TZNAME:GMT
DTSTART:20271031T010000
END:STANDARD
END:VTIMEZONE
BEGIN:VEVENT
DTSTART;TZID=Europe/London:20260605T173000
DTEND;TZID=Europe/London:20260605T203000
DTSTAMP:20260419T182053
CREATED:20260418T103424Z
LAST-MODIFIED:20260418T104419Z
UID:10002810-1780680600-1780691400@devonwomeninbusiness.com
SUMMARY:Fizzy Friday
DESCRIPTION:Our friends at West Country Women invite you to their Fizzy Friday Finance & Networking event\, an evening of conversation\, inspiration\, and connection with women from across the region. \nExpect a relaxed and friendly atmosphere\, a glass of Nosecco in hand\, and the chance to meet like-minded women while hearing from inspiring speakers. \nYour Fizzy Friday hosts \nSelaine Saxby\nFormer MP for North Devon and recently qualified financial adviser. Selaine brings her Westminster experience and financial expertise to help women feel more confident navigating their financial future. She is also the North Devon Ambassador for West Country Women. \nAlexis Bowater OBE\nDirector General of West Country Women\, award-winning campaigner\, and well-known community connector. Alexis will be hosting the evening and helping bring the West Country Women community together. \nWhat’s included \n\nShort talks from guest speakers\, including previous West Country Women Awards finalists\nNosecco\, nibbles\, and plenty of networking\nA welcoming group of women to meet and connect with\nAdditional surprises still to be announced\n\nVenue \nNorth Devon Cricket Club\nThe Pavilion\nSandhills\nInstow\nNorth Devon\nEX39 4LF \nEvent partner \nSponsored by North Prospect \nFree Tickets: https://events.humanitix.com/fizzy-friday-finance-and-networking \n 
URL:https://devonwomeninbusiness.com/dwib-events2/fizzy-friday/
LOCATION:North Devon Cricket Club
CATEGORIES:Calendar,West Country Women Awards
ORGANIZER;CN="West Country Women Awards":MAILTO:contact@womenawards.co.uk
END:VEVENT
END:VCALENDAR