BEGIN:VCALENDAR
VERSION:2.0
PRODID:-//Devon Women in Business - ECPv6.15.20//NONSGML v1.0//EN
CALSCALE:GREGORIAN
METHOD:PUBLISH
X-ORIGINAL-URL:https://devonwomeninbusiness.com
X-WR-CALDESC:Events for Devon Women in Business
REFRESH-INTERVAL;VALUE=DURATION:PT1H
X-Robots-Tag:noindex
X-PUBLISHED-TTL:PT1H
BEGIN:VTIMEZONE
TZID:Europe/London
BEGIN:DAYLIGHT
TZOFFSETFROM:+0000
TZOFFSETTO:+0100
TZNAME:BST
DTSTART:20250330T010000
END:DAYLIGHT
BEGIN:STANDARD
TZOFFSETFROM:+0100
TZOFFSETTO:+0000
TZNAME:GMT
DTSTART:20251026T010000
END:STANDARD
BEGIN:DAYLIGHT
TZOFFSETFROM:+0000
TZOFFSETTO:+0100
TZNAME:BST
DTSTART:20260329T010000
END:DAYLIGHT
BEGIN:STANDARD
TZOFFSETFROM:+0100
TZOFFSETTO:+0000
TZNAME:GMT
DTSTART:20261025T010000
END:STANDARD
BEGIN:DAYLIGHT
TZOFFSETFROM:+0000
TZOFFSETTO:+0100
TZNAME:BST
DTSTART:20270328T010000
END:DAYLIGHT
BEGIN:STANDARD
TZOFFSETFROM:+0100
TZOFFSETTO:+0000
TZNAME:GMT
DTSTART:20271031T010000
END:STANDARD
END:VTIMEZONE
BEGIN:VEVENT
DTSTART;TZID=Europe/London:20260427T120000
DTEND;TZID=Europe/London:20260427T133000
DTSTAMP:20260423T205737
CREATED:20260306T104639Z
LAST-MODIFIED:20260423T162644Z
UID:10002825-1777291200-1777296600@devonwomeninbusiness.com
SUMMARY:DWIB Online Networking Event (Last Monday)
DESCRIPTION:DWIB Online Networking (Last Monday)\nJoin Devon Women in Business for our friendly monthly online networking session\, held on the last Monday of each month (unless there’s a bank holiday!). It’s your chance to take time out to meet and chat with other members. \nDWIB online networking is friendly\, supportive\, and welcoming. Whether you run an established business\, are just starting out\, or are thinking about your next step\, you’ll find a warm community ready to connect. \nFor details of our speakers\, please visit our events pages on Facebook or LinkedIn. \nYour hosts: Louise Jenner\, The Dream Job Coach and Maureen Townsend from Accentuate Visuals. \nBook Here\nNOW Free and unlimited for Bronze\, Silver\, Gold and Platinum members.
URL:https://devonwomeninbusiness.com/dwib-events2/dwib-online-networking-event-2-3-2/2026-04-27/
LOCATION:On Zoom\, Devon\, United Kingdom
CATEGORIES:Calendar,Devon Women in Business
ATTACH;FMTTYPE=image/png:https://devonwomeninbusiness.com/wp-content/uploads/2023/01/DWIB-Online-Networking-Event.png
END:VEVENT
END:VCALENDAR