BEGIN:VCALENDAR
VERSION:2.0
PRODID:-//Devon Women in Business - ECPv6.15.20//NONSGML v1.0//EN
CALSCALE:GREGORIAN
METHOD:PUBLISH
X-WR-CALNAME:Devon Women in Business
X-ORIGINAL-URL:https://devonwomeninbusiness.com
X-WR-CALDESC:Events for Devon Women in Business
REFRESH-INTERVAL;VALUE=DURATION:PT1H
X-Robots-Tag:noindex
X-PUBLISHED-TTL:PT1H
BEGIN:VTIMEZONE
TZID:Europe/London
BEGIN:DAYLIGHT
TZOFFSETFROM:+0000
TZOFFSETTO:+0100
TZNAME:BST
DTSTART:20250330T010000
END:DAYLIGHT
BEGIN:STANDARD
TZOFFSETFROM:+0100
TZOFFSETTO:+0000
TZNAME:GMT
DTSTART:20251026T010000
END:STANDARD
BEGIN:DAYLIGHT
TZOFFSETFROM:+0000
TZOFFSETTO:+0100
TZNAME:BST
DTSTART:20260329T010000
END:DAYLIGHT
BEGIN:STANDARD
TZOFFSETFROM:+0100
TZOFFSETTO:+0000
TZNAME:GMT
DTSTART:20261025T010000
END:STANDARD
BEGIN:DAYLIGHT
TZOFFSETFROM:+0000
TZOFFSETTO:+0100
TZNAME:BST
DTSTART:20270328T010000
END:DAYLIGHT
BEGIN:STANDARD
TZOFFSETFROM:+0100
TZOFFSETTO:+0000
TZNAME:GMT
DTSTART:20271031T010000
END:STANDARD
END:VTIMEZONE
BEGIN:VEVENT
DTSTART;TZID=Europe/London:20260303T103000
DTEND;TZID=Europe/London:20260303T120000
DTSTAMP:20260423T203005
CREATED:20251215T145127Z
LAST-MODIFIED:20251215T145605Z
UID:10002788-1772533800-1772539200@devonwomeninbusiness.com
SUMMARY:Simply Networking at The Mole Resort
DESCRIPTION:DWIB Simply Networking – The Mole Resort\, Umberleigh (Between Crediton and  Barnstaple)\nLooking for a relaxed and friendly way to connect with other inspiring women in business? Join us for DWIB Simply Networking – a refreshing alternative to the usual lunch\, brunch or dinner events. With no meals to pay for\, the focus is purely on meaningful connections and business-boosting conversations (don’t worry – we’ll still keep you fuelled with tea\, coffee and biscuits). \nWhat to ExpectThis is a women-only event with a warm\, welcoming\, and informal vibe – ideal whether you’re a regular networker or trying it for the first time. \n📍 Venue:\nWe are delighted to be back at The Mole Resort which is tucked away in the picturesque North Devon countryside\, The Mole Resort draws its name from the beautiful River Mole\, which you’ll encounter if you’re driving south into the resort\, offering a glimpse of the tranquillity that awaits you. Renowned for its abundant wildlife and breath-taking landscapes\, our resort offers a perfect vantage point to explore the natural beauty of Devon. \nExpect a warm welcome while you connect with fellow DWIB members and guests in this unique coastal setting. \nThis is your chance to step away from the everyday\, take in the views\, and enjoy relaxed networking in a location that’s guaranteed to inspire. \nWe will meet at The Hub reception before being escorted to the Exmoor Room – venue website https://www.themoleresort.co.uk/ \n👩‍💼 Your Host:\nYou’ll be warmly welcomed by Louise Jenner\, The Dream Job Coach and Maureen Townsend of Accentuate Visuals.Got a question? Just drop us a message to devonwomeninbusiness@gmail.com – we’re happy to help! \n🕥 Timings:\n\n\n10:30 – 11:00 am | Welcome & Introductions with teas\, coffees and cold drinks \n\n\n11:00 – 11:45 am | Simply Networking – Discover what fellow DWIB members do and share your own business story in a relaxed\, supportive space \n\n\n12:00 noon | Close \n\nFor those who wish to stay on there is a spa pass available for £10 (payable on arrival) giving access to the indoor swimming pool\, a fully equipped gym\, fitness classes\, steam room\, sauna and Jacuzzi.\n\n🚗 Transport & Parking:\nFree parking is available at the venue. Car-sharing is encouraged – post in our DWIB Facebook or LinkedIn groups if you can offer or need a lift. View directions. \n🎟 Tickets:\nScroll down to book your place.DWIB members enjoy discounted rates. Not a member yet? Join today and unlock savings on this and all future events!
URL:https://devonwomeninbusiness.com/dwib-events2/simply-networking-at-the-mole-resort/
LOCATION:The Mole Resort\, Chittlehamholt\, Umberleigh\, Devon\, EX37 9HD\, United Kingdom
CATEGORIES:Devon Women in Business
ATTACH;FMTTYPE=image/png:https://devonwomeninbusiness.com/wp-content/uploads/2025/12/dwib-simply-networking-ladram-bay-2.png
END:VEVENT
BEGIN:VEVENT
DTSTART;TZID=Europe/London:20260312T093000
DTEND;TZID=Europe/London:20260312T110000
DTSTAMP:20260423T203005
CREATED:20250111T111309Z
LAST-MODIFIED:20260423T162637Z
UID:10002504-1773307800-1773313200@devonwomeninbusiness.com
SUMMARY:DWIB Online Networking Event (Second Thursday)
DESCRIPTION:DWIB Online Networking (Second Thursday)\nJoin Devon Women in Business for our friendly monthly online networking session\, held on the second Thursday of each month. It’s your chance to take time out to meet and chat with other members. \nDWIB online networking is friendly\, supportive\, and welcoming. Whether you run an established business\, are just starting out\, or are thinking about your next step\, you’ll find a warm community ready to connect. \nFor details of our speakers\, please visit our events pages on Facebook or LinkedIn. \nYour hosts: Louise Jenner\, The Dream Job Coach and Maureen Townsend from Accentuate Visuals. \n👉 Book Here\nNOW Free and unlimited for Bronze\, Silver\, Gold and Platinum members.
URL:https://devonwomeninbusiness.com/dwib-events2/dwib-online-networking-event-2-2-2-3/2026-03-12/
LOCATION:On Zoom\, Devon\, United Kingdom
CATEGORIES:Calendar,Devon Women in Business
ATTACH;FMTTYPE=image/png:https://devonwomeninbusiness.com/wp-content/uploads/2023/01/DWIB-Online-Networking-Event.png
END:VEVENT
BEGIN:VEVENT
DTSTART;TZID=Europe/London:20260330T120000
DTEND;TZID=Europe/London:20260330T133000
DTSTAMP:20260423T203005
CREATED:20260306T104639Z
LAST-MODIFIED:20260423T162644Z
UID:10002770-1774872000-1774877400@devonwomeninbusiness.com
SUMMARY:DWIB Online Networking Event (Last Monday)
DESCRIPTION:DWIB Online Networking (Last Monday)\nJoin Devon Women in Business for our friendly monthly online networking session\, held on the last Monday of each month (unless there’s a bank holiday!). It’s your chance to take time out to meet and chat with other members. \nDWIB online networking is friendly\, supportive\, and welcoming. Whether you run an established business\, are just starting out\, or are thinking about your next step\, you’ll find a warm community ready to connect. \nFor details of our speakers\, please visit our events pages on Facebook or LinkedIn. \nYour hosts: Louise Jenner\, The Dream Job Coach and Maureen Townsend from Accentuate Visuals. \nBook Here\nNOW Free and unlimited for Bronze\, Silver\, Gold and Platinum members.
URL:https://devonwomeninbusiness.com/dwib-events2/dwib-online-networking-event-2-3-2/2026-03-30/
LOCATION:On Zoom\, Devon\, United Kingdom
CATEGORIES:Calendar,Devon Women in Business
ATTACH;FMTTYPE=image/png:https://devonwomeninbusiness.com/wp-content/uploads/2023/01/DWIB-Online-Networking-Event.png
END:VEVENT
END:VCALENDAR