BEGIN:VCALENDAR
VERSION:2.0
PRODID:-//Devon Women in Business - ECPv6.15.20//NONSGML v1.0//EN
CALSCALE:GREGORIAN
METHOD:PUBLISH
X-WR-CALNAME:Devon Women in Business
X-ORIGINAL-URL:https://devonwomeninbusiness.com
X-WR-CALDESC:Events for Devon Women in Business
REFRESH-INTERVAL;VALUE=DURATION:PT1H
X-Robots-Tag:noindex
X-PUBLISHED-TTL:PT1H
BEGIN:VTIMEZONE
TZID:Europe/London
BEGIN:DAYLIGHT
TZOFFSETFROM:+0000
TZOFFSETTO:+0100
TZNAME:BST
DTSTART:20240331T010000
END:DAYLIGHT
BEGIN:STANDARD
TZOFFSETFROM:+0100
TZOFFSETTO:+0000
TZNAME:GMT
DTSTART:20241027T010000
END:STANDARD
BEGIN:DAYLIGHT
TZOFFSETFROM:+0000
TZOFFSETTO:+0100
TZNAME:BST
DTSTART:20250330T010000
END:DAYLIGHT
BEGIN:STANDARD
TZOFFSETFROM:+0100
TZOFFSETTO:+0000
TZNAME:GMT
DTSTART:20251026T010000
END:STANDARD
BEGIN:DAYLIGHT
TZOFFSETFROM:+0000
TZOFFSETTO:+0100
TZNAME:BST
DTSTART:20260329T010000
END:DAYLIGHT
BEGIN:STANDARD
TZOFFSETFROM:+0100
TZOFFSETTO:+0000
TZNAME:GMT
DTSTART:20261025T010000
END:STANDARD
END:VTIMEZONE
BEGIN:VEVENT
DTSTART;VALUE=DATE:20250604
DTEND;VALUE=DATE:20250606
DTSTAMP:20260425T145725
CREATED:20220625T131212Z
LAST-MODIFIED:20220625T131404Z
UID:10002705-1748998800-1749085199@devonwomeninbusiness.com
SUMMARY:Devon Day
DESCRIPTION:
URL:https://devonwomeninbusiness.com/dwib-events2/devon-day/2025-06-04/
LOCATION:Devon
END:VEVENT
BEGIN:VEVENT
DTSTART;TZID=Europe/London:20250612T093000
DTEND;TZID=Europe/London:20250612T110000
DTSTAMP:20260425T145725
CREATED:20250111T111309Z
LAST-MODIFIED:20260423T162637Z
UID:10002495-1749720600-1749726000@devonwomeninbusiness.com
SUMMARY:DWIB Online Networking Event (Second Thursday)
DESCRIPTION:DWIB Online Networking (Second Thursday)\nJoin Devon Women in Business for our friendly monthly online networking session\, held on the second Thursday of each month. It’s your chance to take time out to meet and chat with other members. \nDWIB online networking is friendly\, supportive\, and welcoming. Whether you run an established business\, are just starting out\, or are thinking about your next step\, you’ll find a warm community ready to connect. \nFor details of our speakers\, please visit our events pages on Facebook or LinkedIn. \nYour hosts: Louise Jenner\, The Dream Job Coach and Maureen Townsend from Accentuate Visuals. \n👉 Book Here\nNOW Free and unlimited for Bronze\, Silver\, Gold and Platinum members.
URL:https://devonwomeninbusiness.com/dwib-events2/dwib-online-networking-event-2-2-2-3/2025-06-12/
LOCATION:On Zoom\, Devon\, United Kingdom
CATEGORIES:Calendar,Devon Women in Business
ATTACH;FMTTYPE=image/png:https://devonwomeninbusiness.com/wp-content/uploads/2023/01/DWIB-Online-Networking-Event.png
END:VEVENT
BEGIN:VEVENT
DTSTART;TZID=Europe/London:20250625T103000
DTEND;TZID=Europe/London:20250625T120000
DTSTAMP:20260425T145725
CREATED:20250411T154642Z
LAST-MODIFIED:20250411T155127Z
UID:10002702-1750847400-1750852800@devonwomeninbusiness.com
SUMMARY:DWIB Simply Networking at Steel Brew Plymouth
DESCRIPTION:DWIB Simply Networking at Steel Brew\, Plymouth\nLooking to grow your network without the faff of a formal meal? DWIB Simply Networking is your go-to for genuine connections\, meaningful conversations\, and that all-important caffeine hit\, all in a relaxed\, welcoming space. \nWe’re taking over Steel Brew at Plymouth’s Royal William Yard for a morning of pure\, unfiltered networking. No fancy presentations\, no pressure; just a room full of brilliant women in business\, ready to connect\, collaborate\, and champion each other. \nSpeed Networking – Fast\, Fun & Focused!Think of it as business matchmaking with a buzz! In our speed networking session\, you’ll have a series of short\, snappy conversations with each other; just enough time to introduce yourself\, share what you do\, and spark that all-important connection. It’s a brilliant way to meet more people in less time\, without the awkward small talk. Bring your business cards and your best elevator pitch. You never know who you’ll meet! \nThis is a women-only event with a friendly\, informal vibe. Whether you’re a seasoned professional or just starting out\, you’re very welcome. \n\n🏙️ About the Venue\nSet in the heart of Royal William Yard\, Steel Brew Co. isn’t just a brewery; it’s a buzzing community hub. Known for its creativity and commitment to local collaborations\, it’s the perfect setting for networking with purpose. Expect good vibes\, bold brews\, and a warm welcome from a venue that knows how to bring people together. \n\n👋 Your Host\nMaureen Townsend of Astrality Business Services will be your host for the morning. \n\n🕙 Event Timings\n10.00 – 10.30 am – Welcome & Introduction by Shannon Fisher\n10.30 – 11.45 am – Speed Networking – Time to mingle\, connect and discover what other amazing women in business are up to\n11.45 – 12 noon – Close and optional chit-chat as you head out inspired and energised \n\n🚗 Getting There\nFor parking info\, visit: royalwilliamyard.com/visit/by-car \n\n🎟️ Tickets\nReady to join us? Scroll down to book your place.\nDWIB members enjoy a discount\, so be sure to select the correct ticket.\nNon-members are warmly welcome; choose the standard ticket or consider joining us to unlock savings on this and future events. \nSee you there! ✨ \n\n 
URL:https://devonwomeninbusiness.com/dwib-events2/dwib-simply-networking-at-steel-brew-plymouth/
LOCATION:Steel Brew Co\, Mills Bakery\, Royal William Yard Road\, Stonehouse\, Plymouth\, Devon\, PL1 3GD\, United Kingdom
CATEGORIES:Calendar,Devon Women in Business
ATTACH;FMTTYPE=image/png:https://devonwomeninbusiness.com/wp-content/uploads/2025/04/DWIB-Simply-Networking-Steel-Brew-Plymouth.png
END:VEVENT
BEGIN:VEVENT
DTSTART;TZID=Europe/London:20250630T120000
DTEND;TZID=Europe/London:20250630T133000
DTSTAMP:20260425T145725
CREATED:20250224T162148Z
LAST-MODIFIED:20260306T112418Z
UID:10002691-1751284800-1751290200@devonwomeninbusiness.com
SUMMARY:DWIB Online Networking Event (Monday)
DESCRIPTION:DWIB Online Networking (Monday)\nJoin us for our free\, online\, monthly networking events. It’s a chance to take time out to meet and chat with other members of Devon Women in Business. We’re friendly and informal and looking forward to meeting you and learning more about your business. \nFor details of our speakers\, please visit our events pages on Facebook and LinkedIn. \nYour hosts: Louise Jenner\, The Dream Job Coach and Maureen Townsend from Accentuate Visuals \nBook Here\nNOW Free and unlimited for Bronze\, Silver\, Gold and Platinum members.
URL:https://devonwomeninbusiness.com/dwib-events2/dwib-online-networking-event-2-3/2025-06-30/
LOCATION:On Zoom\, Devon\, United Kingdom
CATEGORIES:Calendar,Devon Women in Business
ATTACH;FMTTYPE=image/png:https://devonwomeninbusiness.com/wp-content/uploads/2023/01/DWIB-Online-Networking-Event.png
END:VEVENT
END:VCALENDAR